BEGIN:VCALENDAR
VERSION:2.0
PRODID:-//San Antonio Christian School - ECPv6.15.11//NONSGML v1.0//EN
CALSCALE:GREGORIAN
METHOD:PUBLISH
X-WR-CALNAME:San Antonio Christian School
X-ORIGINAL-URL:https://www.sachristianschool.org
X-WR-CALDESC:Events for San Antonio Christian School
REFRESH-INTERVAL;VALUE=DURATION:PT1H
X-Robots-Tag:noindex
X-PUBLISHED-TTL:PT1H
BEGIN:VTIMEZONE
TZID:America/Los_Angeles
BEGIN:DAYLIGHT
TZOFFSETFROM:-0800
TZOFFSETTO:-0700
TZNAME:PDT
DTSTART:20220313T100000
END:DAYLIGHT
BEGIN:STANDARD
TZOFFSETFROM:-0700
TZOFFSETTO:-0800
TZNAME:PST
DTSTART:20221106T090000
END:STANDARD
BEGIN:DAYLIGHT
TZOFFSETFROM:-0800
TZOFFSETTO:-0700
TZNAME:PDT
DTSTART:20230312T100000
END:DAYLIGHT
BEGIN:STANDARD
TZOFFSETFROM:-0700
TZOFFSETTO:-0800
TZNAME:PST
DTSTART:20231105T090000
END:STANDARD
BEGIN:DAYLIGHT
TZOFFSETFROM:-0800
TZOFFSETTO:-0700
TZNAME:PDT
DTSTART:20240310T100000
END:DAYLIGHT
BEGIN:STANDARD
TZOFFSETFROM:-0700
TZOFFSETTO:-0800
TZNAME:PST
DTSTART:20241103T090000
END:STANDARD
BEGIN:DAYLIGHT
TZOFFSETFROM:-0800
TZOFFSETTO:-0700
TZNAME:PDT
DTSTART:20250309T100000
END:DAYLIGHT
BEGIN:STANDARD
TZOFFSETFROM:-0700
TZOFFSETTO:-0800
TZNAME:PST
DTSTART:20251102T090000
END:STANDARD
END:VTIMEZONE
BEGIN:VEVENT
DTSTART;VALUE=DATE:20241007
DTEND;VALUE=DATE:20241008
DTSTAMP:20260422T105534
CREATED:20230713T165812Z
LAST-MODIFIED:20240716T153959Z
UID:1672-1728259200-1728345599@www.sachristianschool.org
SUMMARY:SECC Teacher In-Service (NO SCHOOL)
DESCRIPTION:
URL:https://www.sachristianschool.org/event/secc-in-service-no-school/
CATEGORIES:NO SCHOOL
END:VEVENT
BEGIN:VEVENT
DTSTART;TZID=America/Los_Angeles:20241006T100000
DTEND;TZID=America/Los_Angeles:20241006T140000
DTSTAMP:20260422T105534
CREATED:20230713T170149Z
LAST-MODIFIED:20240716T153854Z
UID:1678-1728208800-1728223200@www.sachristianschool.org
SUMMARY:Fall Festival
DESCRIPTION:
URL:https://www.sachristianschool.org/event/fall-festival/
CATEGORIES:Fundraiser,School Events
END:VEVENT
BEGIN:VEVENT
DTSTART;TZID=America/Los_Angeles:20240917T090000
DTEND;TZID=America/Los_Angeles:20240917T120000
DTSTAMP:20260422T105534
CREATED:20230713T174223Z
LAST-MODIFIED:20240716T153738Z
UID:2231-1726563600-1726574400@www.sachristianschool.org
SUMMARY:Move-A-Thon
DESCRIPTION:
URL:https://www.sachristianschool.org/event/move-a-thon-2/
CATEGORIES:Fundraiser,School Events
END:VEVENT
BEGIN:VEVENT
DTSTART;VALUE=DATE:20240916
DTEND;VALUE=DATE:20240921
DTSTAMP:20260422T105534
CREATED:20220629T165121Z
LAST-MODIFIED:20240716T153645Z
UID:1668-1726444800-1726876799@www.sachristianschool.org
SUMMARY:MAP Testing Make-Ups (All Grades)
DESCRIPTION:
URL:https://www.sachristianschool.org/event/map-testing-make-ups-all-grades/
END:VEVENT
BEGIN:VEVENT
DTSTART;TZID=America/Los_Angeles:20240915T120000
DTEND;TZID=America/Los_Angeles:20240921T150000
DTSTAMP:20260422T105534
CREATED:20230713T172750Z
LAST-MODIFIED:20240716T153547Z
UID:1662-1726401600-1726930800@www.sachristianschool.org
SUMMARY:Made to Move Challenge
DESCRIPTION:
URL:https://www.sachristianschool.org/event/move-a-thon/
CATEGORIES:School Events
END:VEVENT
BEGIN:VEVENT
DTSTART;TZID=America/Los_Angeles:20240909T081500
DTEND;TZID=America/Los_Angeles:20240909T093000
DTSTAMP:20260422T105534
CREATED:20230713T172424Z
LAST-MODIFIED:20240716T153319Z
UID:1660-1725869700-1725874200@www.sachristianschool.org
SUMMARY:Grandparents' Day Chapel
DESCRIPTION:
URL:https://www.sachristianschool.org/event/grandparents-day/
CATEGORIES:School Events
END:VEVENT
BEGIN:VEVENT
DTSTART;VALUE=DATE:20240909
DTEND;VALUE=DATE:20240914
DTSTAMP:20260422T105534
CREATED:20230713T173029Z
LAST-MODIFIED:20240716T153446Z
UID:1664-1725840000-1726271999@www.sachristianschool.org
SUMMARY:MAP Testing (All Grades)
DESCRIPTION:
URL:https://www.sachristianschool.org/event/map-testing-1st-8th-graders/
END:VEVENT
BEGIN:VEVENT
DTSTART;TZID=America/Los_Angeles:20240906T170000
DTEND;TZID=America/Los_Angeles:20240906T193000
DTSTAMP:20260422T105534
CREATED:20220629T165652Z
LAST-MODIFIED:20240716T153108Z
UID:1670-1725642000-1725651000@www.sachristianschool.org
SUMMARY:Beach Vespers (After School)
DESCRIPTION:
URL:https://www.sachristianschool.org/event/vespers-all-grades/
CATEGORIES:School Events
END:VEVENT
BEGIN:VEVENT
DTSTART;VALUE=DATE:20240902
DTEND;VALUE=DATE:20240903
DTSTAMP:20260422T105534
CREATED:20220627T172237Z
LAST-MODIFIED:20240716T152958Z
UID:1658-1725235200-1725321599@www.sachristianschool.org
SUMMARY:Labor Day (NO SCHOOL)
DESCRIPTION:
URL:https://www.sachristianschool.org/event/labor-day-no-school/
CATEGORIES:Holiday,NO SCHOOL
END:VEVENT
BEGIN:VEVENT
DTSTART;TZID=America/Los_Angeles:20240829T080000
DTEND;TZID=America/Los_Angeles:20240829T120000
DTSTAMP:20260422T105534
CREATED:20220818T194802Z
LAST-MODIFIED:20240716T152825Z
UID:1823-1724918400-1724932800@www.sachristianschool.org
SUMMARY:Teacher In-Service (Minimum Day)
DESCRIPTION:
URL:https://www.sachristianschool.org/event/teacher-in-service-minimum-day/
CATEGORIES:Minimum Day
END:VEVENT
BEGIN:VEVENT
DTSTART;TZID=America/Los_Angeles:20240819T080000
DTEND;TZID=America/Los_Angeles:20240819T153000
DTSTAMP:20260422T105534
CREATED:20220713T172028Z
LAST-MODIFIED:20240716T152718Z
UID:1656-1724054400-1724081400@www.sachristianschool.org
SUMMARY:First Day of School!
DESCRIPTION:
URL:https://www.sachristianschool.org/event/first-day-of-school/
END:VEVENT
BEGIN:VEVENT
DTSTART;TZID=America/Los_Angeles:20240815T180000
DTEND;TZID=America/Los_Angeles:20240815T200000
DTSTAMP:20260422T105534
CREATED:20220713T171824Z
LAST-MODIFIED:20240716T152624Z
UID:1652-1723744800-1723752000@www.sachristianschool.org
SUMMARY:Prayer Walk & Back to School Orientation
DESCRIPTION:
URL:https://www.sachristianschool.org/event/prayer-walk/
CATEGORIES:School Events
END:VEVENT
BEGIN:VEVENT
DTSTART;TZID=America/Los_Angeles:20240728T100000
DTEND;TZID=America/Los_Angeles:20240728T140000
DTSTAMP:20260422T105534
CREATED:20230701T171434Z
LAST-MODIFIED:20240716T171609Z
UID:1650-1722160800-1722175200@www.sachristianschool.org
SUMMARY:Hoop-a-thon
DESCRIPTION:Hello SACS Parents\, Students\, Teachers\, and Friends\, \n  \nSACS will hold its annual HOOP-A-THON fund raiser on Sunday\, July 28\, 2024. There will be time to make baskets\, splash on the super splash pad\, and buy food to support students! If you would like to be a food vendor for this event\, please contact the office by July 22nd. \nEach student will have the opportunity to collect sponsors to fund them for each basket they make\, funds collected will support your students Christian Education. \nEach student may download and print the HOOP-A-THON fund raiser packet starting July 16\, 2024.  Sponser sheet and envelope may also be picked up in the office during summer office hours: Monday through Thursday from 10:00 am to 2:00 pm. \nDonations may be collected in the form of cash\, checks\, or over the phone at the SACS office with a debit/credit card. \nPlease call the office at 909-982-2301 if you have any questions or would like to make an over the phone donation. \n  \nBlessings\, \nSACS ADMINISTRATION
URL:https://www.sachristianschool.org/event/hoop-a-thon/
CATEGORIES:Fundraiser,School Events
END:VEVENT
BEGIN:VEVENT
DTSTART;VALUE=DATE:20240704
DTEND;VALUE=DATE:20240705
DTSTAMP:20260422T105534
CREATED:20240716T164650Z
LAST-MODIFIED:20240716T164756Z
UID:2878-1720051200-1720137599@www.sachristianschool.org
SUMMARY:Independence Day (Office Closed)
DESCRIPTION:
URL:https://www.sachristianschool.org/event/fourth-of-july/
CATEGORIES:Holiday
END:VEVENT
BEGIN:VEVENT
DTSTART;VALUE=DATE:20240422
DTEND;VALUE=DATE:20240423
DTSTAMP:20260422T105534
CREATED:20230713T202626Z
LAST-MODIFIED:20230713T202626Z
UID:2271-1713744000-1713830399@www.sachristianschool.org
SUMMARY:ASB Field Trip
DESCRIPTION:
URL:https://www.sachristianschool.org/event/asb-field-trip/
END:VEVENT
BEGIN:VEVENT
DTSTART;TZID=America/Los_Angeles:20240306T080000
DTEND;TZID=America/Los_Angeles:20240306T235900
DTSTAMP:20260422T105534
CREATED:20220818T201741Z
LAST-MODIFIED:20230713T184627Z
UID:1865-1709712000-1709769540@www.sachristianschool.org
SUMMARY:Spring/Promotion/Graduation Photos
DESCRIPTION:
URL:https://www.sachristianschool.org/event/spring-promotion-panoramic-photos/
END:VEVENT
BEGIN:VEVENT
DTSTART;TZID=America/Los_Angeles:20240223T190000
DTEND;TZID=America/Los_Angeles:20240223T190000
DTSTAMP:20260422T105534
CREATED:20230713T184434Z
LAST-MODIFIED:20230713T184434Z
UID:2251-1708714800-1708714800@www.sachristianschool.org
SUMMARY:Jr. High Choral Festival
DESCRIPTION:
URL:https://www.sachristianschool.org/event/jr-high-choral-festival/
END:VEVENT
BEGIN:VEVENT
DTSTART;VALUE=DATE:20240125
DTEND;VALUE=DATE:20240126
DTSTAMP:20260422T105534
CREATED:20220818T201113Z
LAST-MODIFIED:20230713T182011Z
UID:1855-1706140800-1706227199@www.sachristianschool.org
SUMMARY:TK - 8th Snow Day Trip
DESCRIPTION:
URL:https://www.sachristianschool.org/event/tk-8th-snow-trip/
END:VEVENT
BEGIN:VEVENT
DTSTART;VALUE=DATE:20240112
DTEND;VALUE=DATE:20240113
DTSTAMP:20260422T105534
CREATED:20220818T195955Z
LAST-MODIFIED:20230713T181412Z
UID:1841-1705017600-1705103999@www.sachristianschool.org
SUMMARY:Ice Skating Trip
DESCRIPTION:
URL:https://www.sachristianschool.org/event/ice-skating-trip/
END:VEVENT
BEGIN:VEVENT
DTSTART;TZID=America/Los_Angeles:20231115T080000
DTEND;TZID=America/Los_Angeles:20231115T100000
DTSTAMP:20260422T105534
CREATED:20220818T194247Z
LAST-MODIFIED:20230713T180525Z
UID:1815-1700035200-1700042400@www.sachristianschool.org
SUMMARY:Picture Day Make-Up
DESCRIPTION:
URL:https://www.sachristianschool.org/event/picture-day-make-up/
END:VEVENT
BEGIN:VEVENT
DTSTART;TZID=America/Los_Angeles:20230927T080000
DTEND;TZID=America/Los_Angeles:20230927T120000
DTSTAMP:20260422T105534
CREATED:20220629T165921Z
LAST-MODIFIED:20230713T174322Z
UID:1674-1695801600-1695816000@www.sachristianschool.org
SUMMARY:Picture Day
DESCRIPTION:
URL:https://www.sachristianschool.org/event/picture-day/
END:VEVENT
BEGIN:VEVENT
DTSTART;TZID=America/Los_Angeles:20230908T120000
DTEND;TZID=America/Los_Angeles:20230908T200000
DTSTAMP:20260422T105534
CREATED:20230713T173625Z
LAST-MODIFIED:20230713T173625Z
UID:2225-1694174400-1694203200@www.sachristianschool.org
SUMMARY:Beach Vespers (after school)
DESCRIPTION:Location TBD
URL:https://www.sachristianschool.org/event/beach-vespers-after-school/
CATEGORIES:School Events
END:VEVENT
BEGIN:VEVENT
DTSTART;TZID=America/Los_Angeles:20230901T080000
DTEND;TZID=America/Los_Angeles:20230901T090000
DTSTAMP:20260422T105534
CREATED:20230713T173420Z
LAST-MODIFIED:20230713T173420Z
UID:2223-1693555200-1693558800@www.sachristianschool.org
SUMMARY:ASB President Announcement
DESCRIPTION:
URL:https://www.sachristianschool.org/event/asb-president-announcement/
END:VEVENT
BEGIN:VEVENT
DTSTART;TZID=America/Los_Angeles:20230831T153000
DTEND;TZID=America/Los_Angeles:20230831T170000
DTSTAMP:20260422T105534
CREATED:20230830T154420Z
LAST-MODIFIED:20230830T154420Z
UID:2336-1693495800-1693501200@www.sachristianschool.org
SUMMARY:Home & School's First Meeting
DESCRIPTION:Location:  SACS’ board room
URL:https://www.sachristianschool.org/event/home-schools-first-meeting/
END:VEVENT
BEGIN:VEVENT
DTSTART;TZID=America/Los_Angeles:20230602T080000
DTEND;TZID=America/Los_Angeles:20230602T120000
DTSTAMP:20260422T105534
CREATED:20220126T180650Z
LAST-MODIFIED:20220818T205605Z
UID:850-1685692800-1685707200@www.sachristianschool.org
SUMMARY:Last Day of School / End of 4th Quarter
DESCRIPTION:
URL:https://www.sachristianschool.org/event/last-day-of-school/
CATEGORIES:School Events
END:VEVENT
BEGIN:VEVENT
DTSTART;VALUE=DATE:20230526
DTEND;VALUE=DATE:20230527
DTSTAMP:20260422T105534
CREATED:20220818T204921Z
LAST-MODIFIED:20220818T204921Z
UID:1899-1685059200-1685145599@www.sachristianschool.org
SUMMARY:MAP Testing Make-Up (All Grades)
DESCRIPTION:
URL:https://www.sachristianschool.org/event/map-testing-make-up-all-grades/
CATEGORIES:School Events
END:VEVENT
BEGIN:VEVENT
DTSTART;TZID=America/Los_Angeles:20230413T170000
DTEND;TZID=America/Los_Angeles:20230413T190000
DTSTAMP:20260422T105534
CREATED:20220818T202841Z
LAST-MODIFIED:20220818T202841Z
UID:1883-1681405200-1681412400@www.sachristianschool.org
SUMMARY:Science Fair
DESCRIPTION:
URL:https://www.sachristianschool.org/event/science-fair/
CATEGORIES:School Events
END:VEVENT
BEGIN:VEVENT
DTSTART;VALUE=DATE:20230318
DTEND;VALUE=DATE:20230320
DTSTAMP:20260422T105534
CREATED:20220818T202315Z
LAST-MODIFIED:20230309T034127Z
UID:1873-1679097600-1679270399@www.sachristianschool.org
SUMMARY:TK - 8th Camping Trip
DESCRIPTION:
URL:https://www.sachristianschool.org/event/tk-8th-camping-trip/
CATEGORIES:School Events
END:VEVENT
BEGIN:VEVENT
DTSTART;TZID=America/Los_Angeles:20230224T170000
DTEND;TZID=America/Los_Angeles:20230224T190000
DTSTAMP:20260422T105534
CREATED:20220818T201506Z
LAST-MODIFIED:20220818T201506Z
UID:1861-1677258000-1677265200@www.sachristianschool.org
SUMMARY:TK - 8th Grade Vespers
DESCRIPTION:
URL:https://www.sachristianschool.org/event/tk-8th-grade-vespers/
CATEGORIES:School Events
END:VEVENT
BEGIN:VEVENT
DTSTART;VALUE=DATE:20230210
DTEND;VALUE=DATE:20230211
DTSTAMP:20260422T105534
CREATED:20220818T200919Z
LAST-MODIFIED:20220818T200919Z
UID:1851-1675987200-1676073599@www.sachristianschool.org
SUMMARY:MAP Testing Make-Ups (All grades)
DESCRIPTION:
URL:https://www.sachristianschool.org/event/map-testing-make-ups-all-grades-4/
END:VEVENT
END:VCALENDAR