BEGIN:VCALENDAR
VERSION:2.0
PRODID:-//San Antonio Christian School - ECPv6.15.11//NONSGML v1.0//EN
CALSCALE:GREGORIAN
METHOD:PUBLISH
X-ORIGINAL-URL:https://www.sachristianschool.org
X-WR-CALDESC:Events for San Antonio Christian School
REFRESH-INTERVAL;VALUE=DURATION:PT1H
X-Robots-Tag:noindex
X-PUBLISHED-TTL:PT1H
BEGIN:VTIMEZONE
TZID:America/Los_Angeles
BEGIN:DAYLIGHT
TZOFFSETFROM:-0800
TZOFFSETTO:-0700
TZNAME:PDT
DTSTART:20230312T100000
END:DAYLIGHT
BEGIN:STANDARD
TZOFFSETFROM:-0700
TZOFFSETTO:-0800
TZNAME:PST
DTSTART:20231105T090000
END:STANDARD
BEGIN:DAYLIGHT
TZOFFSETFROM:-0800
TZOFFSETTO:-0700
TZNAME:PDT
DTSTART:20240310T100000
END:DAYLIGHT
BEGIN:STANDARD
TZOFFSETFROM:-0700
TZOFFSETTO:-0800
TZNAME:PST
DTSTART:20241103T090000
END:STANDARD
BEGIN:DAYLIGHT
TZOFFSETFROM:-0800
TZOFFSETTO:-0700
TZNAME:PDT
DTSTART:20250309T100000
END:DAYLIGHT
BEGIN:STANDARD
TZOFFSETFROM:-0700
TZOFFSETTO:-0800
TZNAME:PST
DTSTART:20251102T090000
END:STANDARD
BEGIN:DAYLIGHT
TZOFFSETFROM:-0800
TZOFFSETTO:-0700
TZNAME:PDT
DTSTART:20260308T100000
END:DAYLIGHT
BEGIN:STANDARD
TZOFFSETFROM:-0700
TZOFFSETTO:-0800
TZNAME:PST
DTSTART:20261101T090000
END:STANDARD
END:VTIMEZONE
BEGIN:VEVENT
DTSTART;VALUE=DATE:20250122
DTEND;VALUE=DATE:20250123
DTSTAMP:20260422T073415
CREATED:20220818T195846Z
LAST-MODIFIED:20240716T161258Z
UID:1839-1737504000-1737590399@www.sachristianschool.org
SUMMARY:Third Quarter Begins
DESCRIPTION:
URL:https://www.sachristianschool.org/event/3rd-quarter-begins/
END:VEVENT
BEGIN:VEVENT
DTSTART;VALUE=DATE:20250121
DTEND;VALUE=DATE:20250122
DTSTAMP:20260422T073415
CREATED:20231006T173943Z
LAST-MODIFIED:20240716T161112Z
UID:2437-1737417600-1737503999@www.sachristianschool.org
SUMMARY:SECC Teacher In-Service (NO SCHOOL)
DESCRIPTION:
URL:https://www.sachristianschool.org/event/secc-teacher-in-service-minimum-day-2/
CATEGORIES:NO SCHOOL
END:VEVENT
BEGIN:VEVENT
DTSTART;VALUE=DATE:20250120
DTEND;VALUE=DATE:20250121
DTSTAMP:20260422T073415
CREATED:20220818T195734Z
LAST-MODIFIED:20240716T160958Z
UID:1837-1737331200-1737417599@www.sachristianschool.org
SUMMARY:Martin Luther King Jr. (No School)
DESCRIPTION:
URL:https://www.sachristianschool.org/event/martin-luther-king-jr-no-school/
CATEGORIES:Holiday,NO SCHOOL
END:VEVENT
BEGIN:VEVENT
DTSTART;VALUE=DATE:20250117
DTEND;VALUE=DATE:20250118
DTSTAMP:20260422T073415
CREATED:20220818T195605Z
LAST-MODIFIED:20240716T160924Z
UID:1835-1737072000-1737158399@www.sachristianschool.org
SUMMARY:Second Quarter Ends
DESCRIPTION:
URL:https://www.sachristianschool.org/event/2nd-quarter-ends/
END:VEVENT
BEGIN:VEVENT
DTSTART;VALUE=DATE:20250107
DTEND;VALUE=DATE:20250108
DTSTAMP:20260422T073415
CREATED:20220818T195504Z
LAST-MODIFIED:20240716T160758Z
UID:1833-1736208000-1736294399@www.sachristianschool.org
SUMMARY:Classes Resumes
DESCRIPTION:
URL:https://www.sachristianschool.org/event/class-resumes-2/
END:VEVENT
BEGIN:VEVENT
DTSTART;VALUE=DATE:20250106
DTEND;VALUE=DATE:20250107
DTSTAMP:20260422T073415
CREATED:20240716T160727Z
LAST-MODIFIED:20240716T160727Z
UID:2858-1736121600-1736207999@www.sachristianschool.org
SUMMARY:Teacher In-Service (NO SCHOOL)
DESCRIPTION:
URL:https://www.sachristianschool.org/event/teacher-in-service-no-school-2/
CATEGORIES:NO SCHOOL
END:VEVENT
BEGIN:VEVENT
DTSTART;VALUE=DATE:20241223
DTEND;VALUE=DATE:20250104
DTSTAMP:20260422T073415
CREATED:20220818T195323Z
LAST-MODIFIED:20240716T160517Z
UID:1831-1734912000-1735948799@www.sachristianschool.org
SUMMARY:Christmas Break (No School)
DESCRIPTION:
URL:https://www.sachristianschool.org/event/christmas-break-no-school/
CATEGORIES:Holiday,NO SCHOOL
END:VEVENT
BEGIN:VEVENT
DTSTART;TZID=America/Los_Angeles:20241220T080000
DTEND;TZID=America/Los_Angeles:20241220T120000
DTSTAMP:20260422T073415
CREATED:20220818T195202Z
LAST-MODIFIED:20240716T160406Z
UID:1829-1734681600-1734696000@www.sachristianschool.org
SUMMARY:Class Christmas Parties
DESCRIPTION:
URL:https://www.sachristianschool.org/event/class-christmas-parties/
END:VEVENT
BEGIN:VEVENT
DTSTART;TZID=America/Los_Angeles:20241219T183000
DTEND;TZID=America/Los_Angeles:20241219T200000
DTSTAMP:20260422T073415
CREATED:20220818T195057Z
LAST-MODIFIED:20240716T160213Z
UID:1827-1734633000-1734638400@www.sachristianschool.org
SUMMARY:TK-8th Christmas Program
DESCRIPTION:Location TBD
URL:https://www.sachristianschool.org/event/tk-8th-christmas-program/
CATEGORIES:School Events
END:VEVENT
BEGIN:VEVENT
DTSTART;TZID=America/Los_Angeles:20241219T080000
DTEND;TZID=America/Los_Angeles:20241219T120000
DTSTAMP:20260422T073415
CREATED:20220818T194941Z
LAST-MODIFIED:20240716T160103Z
UID:1825-1734595200-1734609600@www.sachristianschool.org
SUMMARY:Christmas Program Rehearsal (Minimum Day)
DESCRIPTION:
URL:https://www.sachristianschool.org/event/christmas-program-church-rehearsal-minimum-day/
CATEGORIES:Minimum Day
END:VEVENT
BEGIN:VEVENT
DTSTART;TZID=America/Los_Angeles:20241216T080000
DTEND;TZID=America/Los_Angeles:20241219T153000
DTSTAMP:20260422T073415
CREATED:20240716T155919Z
LAST-MODIFIED:20240716T155919Z
UID:2854-1734336000-1734622200@www.sachristianschool.org
SUMMARY:All School Program Practice
DESCRIPTION:
URL:https://www.sachristianschool.org/event/all-school-program-practice/
END:VEVENT
BEGIN:VEVENT
DTSTART;TZID=America/Los_Angeles:20241212T080000
DTEND;TZID=America/Los_Angeles:20241212T150000
DTSTAMP:20260422T073415
CREATED:20230713T180819Z
LAST-MODIFIED:20240716T155604Z
UID:2239-1733990400-1734015600@www.sachristianschool.org
SUMMARY:Knott's Berry Farm Field Trip
DESCRIPTION:
URL:https://www.sachristianschool.org/event/knotts-berry-farm-field-trip/
CATEGORIES:School Events
END:VEVENT
BEGIN:VEVENT
DTSTART;VALUE=DATE:20241203
DTEND;VALUE=DATE:20241204
DTSTAMP:20260422T073415
CREATED:20220818T194609Z
LAST-MODIFIED:20240716T155527Z
UID:1821-1733184000-1733270399@www.sachristianschool.org
SUMMARY:Classes Resumes
DESCRIPTION:
URL:https://www.sachristianschool.org/event/class-resumes/
END:VEVENT
BEGIN:VEVENT
DTSTART;VALUE=DATE:20241202
DTEND;VALUE=DATE:20241203
DTSTAMP:20260422T073415
CREATED:20220629T170248Z
LAST-MODIFIED:20240716T155502Z
UID:1680-1733097600-1733183999@www.sachristianschool.org
SUMMARY:Teacher In-Service (NO SCHOOL)
DESCRIPTION:
URL:https://www.sachristianschool.org/event/secc-in-service-no-school-2/
CATEGORIES:NO SCHOOL
END:VEVENT
BEGIN:VEVENT
DTSTART;VALUE=DATE:20241125
DTEND;VALUE=DATE:20241130
DTSTAMP:20260422T073415
CREATED:20220818T194505Z
LAST-MODIFIED:20240716T155327Z
UID:1819-1732492800-1732924799@www.sachristianschool.org
SUMMARY:Thanksgiving Break (No School)
DESCRIPTION:
URL:https://www.sachristianschool.org/event/thanksgiving-break-no-school/
CATEGORIES:Holiday,NO SCHOOL
END:VEVENT
BEGIN:VEVENT
DTSTART;TZID=America/Los_Angeles:20241121T110000
DTEND;TZID=America/Los_Angeles:20241121T120000
DTSTAMP:20260422T073415
CREATED:20220818T194349Z
LAST-MODIFIED:20240716T155255Z
UID:1817-1732186800-1732190400@www.sachristianschool.org
SUMMARY:Thanksgiving Brunch
DESCRIPTION:
URL:https://www.sachristianschool.org/event/thanksgiving-brunch/
CATEGORIES:School Events
END:VEVENT
BEGIN:VEVENT
DTSTART;TZID=America/Los_Angeles:20241111T081500
DTEND;TZID=America/Los_Angeles:20241111T093000
DTSTAMP:20260422T073415
CREATED:20240716T155208Z
LAST-MODIFIED:20240716T155208Z
UID:2852-1731312900-1731317400@www.sachristianschool.org
SUMMARY:Veteran's Day Chapel
DESCRIPTION:
URL:https://www.sachristianschool.org/event/veterans-day-chapel/
END:VEVENT
BEGIN:VEVENT
DTSTART;TZID=America/Los_Angeles:20241105T080000
DTEND;TZID=America/Los_Angeles:20241107T120000
DTSTAMP:20260422T073415
CREATED:20220126T174902Z
LAST-MODIFIED:20240716T155052Z
UID:814-1730793600-1730980800@www.sachristianschool.org
SUMMARY:Parent/Teacher Conference (Minimum Days)
DESCRIPTION:Minimum Day 8AM – 12PM
URL:https://www.sachristianschool.org/event/parent-teacher-conference-by-appt/
CATEGORIES:Minimum Day,School Events
END:VEVENT
BEGIN:VEVENT
DTSTART;TZID=America/Los_Angeles:20241103T080000
DTEND;TZID=America/Los_Angeles:20241103T140000
DTSTAMP:20260422T073415
CREATED:20230713T180459Z
LAST-MODIFIED:20240716T154800Z
UID:2236-1730620800-1730642400@www.sachristianschool.org
SUMMARY:Work Bee
DESCRIPTION:
URL:https://www.sachristianschool.org/event/work-bee/
END:VEVENT
BEGIN:VEVENT
DTSTART;VALUE=DATE:20241028
DTEND;VALUE=DATE:20241029
DTSTAMP:20260422T073415
CREATED:20220629T170727Z
LAST-MODIFIED:20240716T154502Z
UID:1686-1730073600-1730159999@www.sachristianschool.org
SUMMARY:Second Quarter Begins
DESCRIPTION:
URL:https://www.sachristianschool.org/event/second-quarter-begins/
END:VEVENT
BEGIN:VEVENT
DTSTART;VALUE=DATE:20241025
DTEND;VALUE=DATE:20241026
DTSTAMP:20260422T073415
CREATED:20220629T170601Z
LAST-MODIFIED:20240716T154431Z
UID:1684-1729814400-1729900799@www.sachristianschool.org
SUMMARY:First Quarter Ends
DESCRIPTION:
URL:https://www.sachristianschool.org/event/first-quarter-ends/
END:VEVENT
BEGIN:VEVENT
DTSTART;VALUE=DATE:20241023
DTEND;VALUE=DATE:20241101
DTSTAMP:20260422T073415
CREATED:20220629T170922Z
LAST-MODIFIED:20240716T154348Z
UID:1688-1729641600-1730419199@www.sachristianschool.org
SUMMARY:Red Ribbon/Spirit Week
DESCRIPTION:
URL:https://www.sachristianschool.org/event/red-ribbon-spirit-week/
CATEGORIES:School Events
END:VEVENT
BEGIN:VEVENT
DTSTART;VALUE=DATE:20241015
DTEND;VALUE=DATE:20241019
DTSTAMP:20260422T073415
CREATED:20220629T170406Z
LAST-MODIFIED:20240716T154142Z
UID:1682-1728950400-1729295999@www.sachristianschool.org
SUMMARY:Week of Prayer
DESCRIPTION:
URL:https://www.sachristianschool.org/event/week-of-prayer-2/
CATEGORIES:School Events
END:VEVENT
BEGIN:VEVENT
DTSTART;VALUE=DATE:20241014
DTEND;VALUE=DATE:20241015
DTSTAMP:20260422T073415
CREATED:20231006T173833Z
LAST-MODIFIED:20240716T165107Z
UID:2435-1728864000-1728950399@www.sachristianschool.org
SUMMARY:SECC Teacher In-Service (NO SCHOOL)
DESCRIPTION:
URL:https://www.sachristianschool.org/event/secc-teacher-in-service-minimum-day/
CATEGORIES:NO SCHOOL
END:VEVENT
BEGIN:VEVENT
DTSTART;VALUE=DATE:20241007
DTEND;VALUE=DATE:20241008
DTSTAMP:20260422T073415
CREATED:20230713T165812Z
LAST-MODIFIED:20240716T153959Z
UID:1672-1728259200-1728345599@www.sachristianschool.org
SUMMARY:SECC Teacher In-Service (NO SCHOOL)
DESCRIPTION:
URL:https://www.sachristianschool.org/event/secc-in-service-no-school/
CATEGORIES:NO SCHOOL
END:VEVENT
BEGIN:VEVENT
DTSTART;TZID=America/Los_Angeles:20241006T100000
DTEND;TZID=America/Los_Angeles:20241006T140000
DTSTAMP:20260422T073415
CREATED:20230713T170149Z
LAST-MODIFIED:20240716T153854Z
UID:1678-1728208800-1728223200@www.sachristianschool.org
SUMMARY:Fall Festival
DESCRIPTION:
URL:https://www.sachristianschool.org/event/fall-festival/
CATEGORIES:Fundraiser,School Events
END:VEVENT
BEGIN:VEVENT
DTSTART;TZID=America/Los_Angeles:20240917T090000
DTEND;TZID=America/Los_Angeles:20240917T120000
DTSTAMP:20260422T073415
CREATED:20230713T174223Z
LAST-MODIFIED:20240716T153738Z
UID:2231-1726563600-1726574400@www.sachristianschool.org
SUMMARY:Move-A-Thon
DESCRIPTION:
URL:https://www.sachristianschool.org/event/move-a-thon-2/
CATEGORIES:Fundraiser,School Events
END:VEVENT
BEGIN:VEVENT
DTSTART;VALUE=DATE:20240916
DTEND;VALUE=DATE:20240921
DTSTAMP:20260422T073415
CREATED:20220629T165121Z
LAST-MODIFIED:20240716T153645Z
UID:1668-1726444800-1726876799@www.sachristianschool.org
SUMMARY:MAP Testing Make-Ups (All Grades)
DESCRIPTION:
URL:https://www.sachristianschool.org/event/map-testing-make-ups-all-grades/
END:VEVENT
BEGIN:VEVENT
DTSTART;TZID=America/Los_Angeles:20240915T120000
DTEND;TZID=America/Los_Angeles:20240921T150000
DTSTAMP:20260422T073415
CREATED:20230713T172750Z
LAST-MODIFIED:20240716T153547Z
UID:1662-1726401600-1726930800@www.sachristianschool.org
SUMMARY:Made to Move Challenge
DESCRIPTION:
URL:https://www.sachristianschool.org/event/move-a-thon/
CATEGORIES:School Events
END:VEVENT
BEGIN:VEVENT
DTSTART;TZID=America/Los_Angeles:20240909T081500
DTEND;TZID=America/Los_Angeles:20240909T093000
DTSTAMP:20260422T073415
CREATED:20230713T172424Z
LAST-MODIFIED:20240716T153319Z
UID:1660-1725869700-1725874200@www.sachristianschool.org
SUMMARY:Grandparents' Day Chapel
DESCRIPTION:
URL:https://www.sachristianschool.org/event/grandparents-day/
CATEGORIES:School Events
END:VEVENT
END:VCALENDAR