BEGIN:VCALENDAR
VERSION:2.0
PRODID:-//San Antonio Christian School - ECPv6.15.11//NONSGML v1.0//EN
CALSCALE:GREGORIAN
METHOD:PUBLISH
X-ORIGINAL-URL:https://www.sachristianschool.org
X-WR-CALDESC:Events for San Antonio Christian School
REFRESH-INTERVAL;VALUE=DURATION:PT1H
X-Robots-Tag:noindex
X-PUBLISHED-TTL:PT1H
BEGIN:VTIMEZONE
TZID:America/Los_Angeles
BEGIN:DAYLIGHT
TZOFFSETFROM:-0800
TZOFFSETTO:-0700
TZNAME:PDT
DTSTART:20240310T100000
END:DAYLIGHT
BEGIN:STANDARD
TZOFFSETFROM:-0700
TZOFFSETTO:-0800
TZNAME:PST
DTSTART:20241103T090000
END:STANDARD
BEGIN:DAYLIGHT
TZOFFSETFROM:-0800
TZOFFSETTO:-0700
TZNAME:PDT
DTSTART:20250309T100000
END:DAYLIGHT
BEGIN:STANDARD
TZOFFSETFROM:-0700
TZOFFSETTO:-0800
TZNAME:PST
DTSTART:20251102T090000
END:STANDARD
BEGIN:DAYLIGHT
TZOFFSETFROM:-0800
TZOFFSETTO:-0700
TZNAME:PDT
DTSTART:20260308T100000
END:DAYLIGHT
BEGIN:STANDARD
TZOFFSETFROM:-0700
TZOFFSETTO:-0800
TZNAME:PST
DTSTART:20261101T090000
END:STANDARD
END:VTIMEZONE
BEGIN:VEVENT
DTSTART;TZID=America/Los_Angeles:20250509T073000
DTEND;TZID=America/Los_Angeles:20250509T080000
DTSTAMP:20260422T033557
CREATED:20220126T175947Z
LAST-MODIFIED:20240716T163921Z
UID:834-1746775800-1746777600@www.sachristianschool.org
SUMMARY:Donut Mess With Moms
DESCRIPTION:
URL:https://www.sachristianschool.org/event/donut-mom/
CATEGORIES:School Events
END:VEVENT
BEGIN:VEVENT
DTSTART;VALUE=DATE:20250505
DTEND;VALUE=DATE:20250510
DTSTAMP:20260422T033557
CREATED:20220126T175859Z
LAST-MODIFIED:20240716T163848Z
UID:832-1746403200-1746835199@www.sachristianschool.org
SUMMARY:Teachers Appreciation Week
DESCRIPTION:
URL:https://www.sachristianschool.org/event/teachers-appreciation-week/
CATEGORIES:School Events
END:VEVENT
BEGIN:VEVENT
DTSTART;VALUE=DATE:20250428
DTEND;VALUE=DATE:20250503
DTSTAMP:20260422T033557
CREATED:20220126T180131Z
LAST-MODIFIED:20240716T171128Z
UID:836-1745798400-1746230399@www.sachristianschool.org
SUMMARY:MAP Testing Make-Up (All Grades)
DESCRIPTION:
URL:https://www.sachristianschool.org/event/map-testing-make-up/
CATEGORIES:School Events
END:VEVENT
BEGIN:VEVENT
DTSTART;VALUE=DATE:20250423
DTEND;VALUE=DATE:20250424
DTSTAMP:20260422T033557
CREATED:20220126T175134Z
LAST-MODIFIED:20240716T163657Z
UID:820-1745366400-1745452799@www.sachristianschool.org
SUMMARY:Administrative Professionals Day
DESCRIPTION:
URL:https://www.sachristianschool.org/event/secretary-day/
CATEGORIES:School Events
END:VEVENT
BEGIN:VEVENT
DTSTART;VALUE=DATE:20250422
DTEND;VALUE=DATE:20250426
DTSTAMP:20260422T033557
CREATED:20220126T175719Z
LAST-MODIFIED:20250425T235635Z
UID:828-1745280000-1745625599@www.sachristianschool.org
SUMMARY:MAP Testing (All Grades)
DESCRIPTION:
URL:https://www.sachristianschool.org/event/map-testing/
CATEGORIES:School Events
END:VEVENT
BEGIN:VEVENT
DTSTART;VALUE=DATE:20250421
DTEND;VALUE=DATE:20250422
DTSTAMP:20260422T033557
CREATED:20220818T203101Z
LAST-MODIFIED:20250425T235459Z
UID:1887-1745193600-1745279999@www.sachristianschool.org
SUMMARY:SECC Teacher's In-Service (NO SCHOOL)
DESCRIPTION:
URL:https://www.sachristianschool.org/event/teacher-in-service-no-school/
CATEGORIES:NO SCHOOL
END:VEVENT
BEGIN:VEVENT
DTSTART;VALUE=DATE:20250414
DTEND;VALUE=DATE:20250419
DTSTAMP:20260422T033557
CREATED:20220818T202950Z
LAST-MODIFIED:20240716T163448Z
UID:1885-1744588800-1745020799@www.sachristianschool.org
SUMMARY:Spirit Week
DESCRIPTION:
URL:https://www.sachristianschool.org/event/spirit-week-2/
END:VEVENT
BEGIN:VEVENT
DTSTART;VALUE=DATE:20250408
DTEND;VALUE=DATE:20250411
DTSTAMP:20260422T033557
CREATED:20220818T202730Z
LAST-MODIFIED:20240716T163404Z
UID:1881-1744070400-1744329599@www.sachristianschool.org
SUMMARY:Parent Teacher Conference (Minimum Days)
DESCRIPTION:
URL:https://www.sachristianschool.org/event/parent-teacher-conference-minimum-day-3/
CATEGORIES:Minimum Day
END:VEVENT
BEGIN:VEVENT
DTSTART;VALUE=DATE:20250331
DTEND;VALUE=DATE:20250401
DTSTAMP:20260422T033557
CREATED:20220818T202616Z
LAST-MODIFIED:20240716T163233Z
UID:1879-1743379200-1743465599@www.sachristianschool.org
SUMMARY:Fourth Quarter Begins
DESCRIPTION:
URL:https://www.sachristianschool.org/event/4th-quarter-begins-2/
END:VEVENT
BEGIN:VEVENT
DTSTART;VALUE=DATE:20250324
DTEND;VALUE=DATE:20250329
DTSTAMP:20260422T033557
CREATED:20220818T202454Z
LAST-MODIFIED:20240716T163143Z
UID:1877-1742774400-1743206399@www.sachristianschool.org
SUMMARY:Spring Break (NO SCHOOL)
DESCRIPTION:
URL:https://www.sachristianschool.org/event/spring-break-no-school/
CATEGORIES:NO SCHOOL
END:VEVENT
BEGIN:VEVENT
DTSTART;VALUE=DATE:20250321
DTEND;VALUE=DATE:20250322
DTSTAMP:20260422T033557
CREATED:20220818T202403Z
LAST-MODIFIED:20240716T163115Z
UID:1875-1742515200-1742601599@www.sachristianschool.org
SUMMARY:Third Quarter Ends
DESCRIPTION:
URL:https://www.sachristianschool.org/event/3rd-quarter-ends/
END:VEVENT
BEGIN:VEVENT
DTSTART;TZID=America/Los_Angeles:20250316T080000
DTEND;TZID=America/Los_Angeles:20250316T140000
DTSTAMP:20260422T033557
CREATED:20230713T201253Z
LAST-MODIFIED:20240716T162829Z
UID:2256-1742112000-1742133600@www.sachristianschool.org
SUMMARY:Spring Work Bee
DESCRIPTION:
URL:https://www.sachristianschool.org/event/spring-work-bee/
END:VEVENT
BEGIN:VEVENT
DTSTART;TZID=America/Los_Angeles:20250313T160000
DTEND;TZID=America/Los_Angeles:20250313T193000
DTSTAMP:20260422T033557
CREATED:20220818T202033Z
LAST-MODIFIED:20240716T163040Z
UID:1869-1741881600-1741894200@www.sachristianschool.org
SUMMARY:Talent & Art Show/Science Fair
DESCRIPTION:
URL:https://www.sachristianschool.org/event/talent-art-show-games/
CATEGORIES:School Events
END:VEVENT
BEGIN:VEVENT
DTSTART;VALUE=DATE:20250227
DTEND;VALUE=DATE:20250228
DTSTAMP:20260422T033557
CREATED:20220818T201600Z
LAST-MODIFIED:20240716T162548Z
UID:1863-1740614400-1740700799@www.sachristianschool.org
SUMMARY:Talent Show Auditions
DESCRIPTION:
URL:https://www.sachristianschool.org/event/talent-art-auditions/
END:VEVENT
BEGIN:VEVENT
DTSTART;TZID=America/Los_Angeles:20250221T170000
DTEND;TZID=America/Los_Angeles:20250221T200000
DTSTAMP:20260422T033557
CREATED:20240716T162456Z
LAST-MODIFIED:20240716T162456Z
UID:2868-1740157200-1740168000@www.sachristianschool.org
SUMMARY:ASB Vespers
DESCRIPTION:
URL:https://www.sachristianschool.org/event/asb-vespers/
CATEGORIES:School Events
END:VEVENT
BEGIN:VEVENT
DTSTART;TZID=America/Los_Angeles:20250220T080000
DTEND;TZID=America/Los_Angeles:20250220T150000
DTSTAMP:20260422T033557
CREATED:20240716T162321Z
LAST-MODIFIED:20250205T220220Z
UID:2866-1740038400-1740063600@www.sachristianschool.org
SUMMARY:Roller Skate Trip (ASB)
DESCRIPTION:
URL:https://www.sachristianschool.org/event/bowling-field-trip-asb/
CATEGORIES:School Events
END:VEVENT
BEGIN:VEVENT
DTSTART;VALUE=DATE:20250218
DTEND;VALUE=DATE:20250222
DTSTAMP:20260422T033557
CREATED:20220818T201354Z
LAST-MODIFIED:20240716T162117Z
UID:1859-1739836800-1740182399@www.sachristianschool.org
SUMMARY:ASB Week of Prayer
DESCRIPTION:
URL:https://www.sachristianschool.org/event/week-of-prayer/
CATEGORIES:School Events
END:VEVENT
BEGIN:VEVENT
DTSTART;VALUE=DATE:20250217
DTEND;VALUE=DATE:20250218
DTSTAMP:20260422T033557
CREATED:20220818T201244Z
LAST-MODIFIED:20240716T162047Z
UID:1857-1739750400-1739836799@www.sachristianschool.org
SUMMARY:Presidents’ Day (No School)
DESCRIPTION:
URL:https://www.sachristianschool.org/event/presidents-day-no-school/
CATEGORIES:Holiday,NO SCHOOL
END:VEVENT
BEGIN:VEVENT
DTSTART;VALUE=DATE:20250214
DTEND;VALUE=DATE:20250215
DTSTAMP:20260422T033557
CREATED:20220818T201016Z
LAST-MODIFIED:20240716T162012Z
UID:1853-1739491200-1739577599@www.sachristianschool.org
SUMMARY:Valentine’s Day Class Parties
DESCRIPTION:
URL:https://www.sachristianschool.org/event/valentines-day-class-parties/
END:VEVENT
BEGIN:VEVENT
DTSTART;TZID=America/Los_Angeles:20250207T073000
DTEND;TZID=America/Los_Angeles:20250207T080000
DTSTAMP:20260422T033557
CREATED:20220818T200724Z
LAST-MODIFIED:20240716T161902Z
UID:1849-1738913400-1738915200@www.sachristianschool.org
SUMMARY:Donuts for Dads
DESCRIPTION:
URL:https://www.sachristianschool.org/event/donuts-for-dads/
CATEGORIES:School Events
END:VEVENT
BEGIN:VEVENT
DTSTART;TZID=America/Los_Angeles:20250206T080000
DTEND;TZID=America/Los_Angeles:20250206T120000
DTSTAMP:20260422T033557
CREATED:20240716T161801Z
LAST-MODIFIED:20240716T161801Z
UID:2863-1738828800-1738843200@www.sachristianschool.org
SUMMARY:SECC In-Service (MINIMUM DAY)
DESCRIPTION:
URL:https://www.sachristianschool.org/event/secc-in-service-minimum-day/
CATEGORIES:Minimum Day
END:VEVENT
BEGIN:VEVENT
DTSTART;VALUE=DATE:20250127
DTEND;VALUE=DATE:20250201
DTSTAMP:20260422T033557
CREATED:20220818T200606Z
LAST-MODIFIED:20240716T161559Z
UID:1847-1737936000-1738367999@www.sachristianschool.org
SUMMARY:MAP Testing Make-Ups (All grades)
DESCRIPTION:
URL:https://www.sachristianschool.org/event/map-testing-make-ups-all-grades-3/
END:VEVENT
BEGIN:VEVENT
DTSTART;TZID=America/Los_Angeles:20250122T180000
DTEND;TZID=America/Los_Angeles:20250122T200000
DTSTAMP:20260422T033557
CREATED:20220818T202214Z
LAST-MODIFIED:20240716T161357Z
UID:1871-1737568800-1737576000@www.sachristianschool.org
SUMMARY:New Student Open House
DESCRIPTION:
URL:https://www.sachristianschool.org/event/new-student-open-house/
END:VEVENT
BEGIN:VEVENT
DTSTART;VALUE=DATE:20250122
DTEND;VALUE=DATE:20250125
DTSTAMP:20260422T033557
CREATED:20220818T200208Z
LAST-MODIFIED:20240716T161220Z
UID:1843-1737504000-1737763199@www.sachristianschool.org
SUMMARY:MAP Testing (All Grades)
DESCRIPTION:
URL:https://www.sachristianschool.org/event/map-testing-jan/
END:VEVENT
BEGIN:VEVENT
DTSTART;VALUE=DATE:20250122
DTEND;VALUE=DATE:20250123
DTSTAMP:20260422T033557
CREATED:20220818T195846Z
LAST-MODIFIED:20240716T161258Z
UID:1839-1737504000-1737590399@www.sachristianschool.org
SUMMARY:Third Quarter Begins
DESCRIPTION:
URL:https://www.sachristianschool.org/event/3rd-quarter-begins/
END:VEVENT
BEGIN:VEVENT
DTSTART;VALUE=DATE:20250121
DTEND;VALUE=DATE:20250122
DTSTAMP:20260422T033557
CREATED:20231006T173943Z
LAST-MODIFIED:20240716T161112Z
UID:2437-1737417600-1737503999@www.sachristianschool.org
SUMMARY:SECC Teacher In-Service (NO SCHOOL)
DESCRIPTION:
URL:https://www.sachristianschool.org/event/secc-teacher-in-service-minimum-day-2/
CATEGORIES:NO SCHOOL
END:VEVENT
BEGIN:VEVENT
DTSTART;VALUE=DATE:20250120
DTEND;VALUE=DATE:20250121
DTSTAMP:20260422T033557
CREATED:20220818T195734Z
LAST-MODIFIED:20240716T160958Z
UID:1837-1737331200-1737417599@www.sachristianschool.org
SUMMARY:Martin Luther King Jr. (No School)
DESCRIPTION:
URL:https://www.sachristianschool.org/event/martin-luther-king-jr-no-school/
CATEGORIES:Holiday,NO SCHOOL
END:VEVENT
BEGIN:VEVENT
DTSTART;VALUE=DATE:20250117
DTEND;VALUE=DATE:20250118
DTSTAMP:20260422T033557
CREATED:20220818T195605Z
LAST-MODIFIED:20240716T160924Z
UID:1835-1737072000-1737158399@www.sachristianschool.org
SUMMARY:Second Quarter Ends
DESCRIPTION:
URL:https://www.sachristianschool.org/event/2nd-quarter-ends/
END:VEVENT
BEGIN:VEVENT
DTSTART;VALUE=DATE:20250107
DTEND;VALUE=DATE:20250108
DTSTAMP:20260422T033557
CREATED:20220818T195504Z
LAST-MODIFIED:20240716T160758Z
UID:1833-1736208000-1736294399@www.sachristianschool.org
SUMMARY:Classes Resumes
DESCRIPTION:
URL:https://www.sachristianschool.org/event/class-resumes-2/
END:VEVENT
BEGIN:VEVENT
DTSTART;VALUE=DATE:20250106
DTEND;VALUE=DATE:20250107
DTSTAMP:20260422T033557
CREATED:20240716T160727Z
LAST-MODIFIED:20240716T160727Z
UID:2858-1736121600-1736207999@www.sachristianschool.org
SUMMARY:Teacher In-Service (NO SCHOOL)
DESCRIPTION:
URL:https://www.sachristianschool.org/event/teacher-in-service-no-school-2/
CATEGORIES:NO SCHOOL
END:VEVENT
END:VCALENDAR